BEGIN:VCALENDAR
VERSION:2.0
PRODID:-//wp-events-plugin.com//7.2.3.1//EN
BEGIN:VEVENT
UID:539@haus-hoheneichen.de
DTSTART:20271123T160000Z
DTEND:20271201T080000Z
DTSTAMP:20260220T075238Z
URL:http://www.haus-hoheneichen.de/programm/ignatianische-exerzitien-2735/
SUMMARY:Ignatianische Exerzitien (2735)
DESCRIPTION:\n\n\n\n\nInhalt\n\n\n\nDie Exerzitien beinhalten folgende Elem
 ente:\n\n\n\n\ndurchgehendes Schweigen\n\n\n\ntäglich 3 bis 4 Stunden Bib
 elbetrachtung\n\n\n\nregelmäßiges Begleitgespräch\n\n\n\nEucharistiefei
 er\n\n\n\ngemeinsame Gebetszeit in der Stille\n\n\n\nMöglichkeit der Mita
 rbeit im Haus oder im Garten\n\n\n\n\nDamit Sie eine genauere Vorstellung 
 davon bekommen können\, um was es bei ignatianischen Exerzitien geht\, fi
 nden Sie unter den folgenden Links weitere Informationen:\n\n\n\n\nDer Rah
 men eines Exerzitienkurses\n\n\n\nDas Schweigen\n\n\n\nDas Begleitgespräc
 h\n\n\n\nBiblische Betrachtungsexerzitien\n\n\n\nDas Exerzitientagebuch\n\
 n\n\nDie Schriftmeditation\n\n\n\n\n\n\n\n\nInformation\n\n\n\nKursnummer:
  2735Kosten: 600 €Kursgebühr: 250 €\n\n\n\nSollten Sie an den Exerzit
 ien teilnehmen wollen\, sich den Beitrag aber nicht leisten können\, spre
 chen Sie uns an – wir finden eine Lösung.\n\n\n\n\n\n\n\nKursleitung\n\
 n\n\nIhr individueller Begleiter\, Ihre individuelle Begleiterin wird von 
 der Kursleitung bestimmt. Wir streben eine ausgewogene und gleichmäßige 
 Verteilung an.\n\n\n\n\n\n\n\n\n
ATTACH;FMTTYPE=image/jpeg:https://www.haus-hoheneichen.de/wp-content/uploa
 ds/2022/11/sj-bild-5451-hoheneichen-seminarhaus-6-img-8073-claudia-arnold-
 scaled.jpg
END:VEVENT
END:VCALENDAR