BEGIN:VCALENDAR
VERSION:2.0
PRODID:-//wp-events-plugin.com//7.2.3.1//EN
BEGIN:VEVENT
UID:148@haus-hoheneichen.de
DTSTART:20240624T170000Z
DTEND:20240625T160000Z
DTSTAMP:20240510T091346Z
URL:https://www.haus-hoheneichen.de/programm/fachtagung-fur-geistliche-beg
 leiter-und-begleiterinnen-und-exerzitienbegleiterinnen-und-begleiter-2418/
SUMMARY:Fachtagung für geistliche Begleiter und Begleiterinnen und Exerzit
 ienbegleiterinnen und -begleiter (2418)
DESCRIPTION:„Mitgehen im Leiden. Zur Dritten Woche der Exerzitien“
ATTACH;FMTTYPE=image/jpeg:https://www.haus-hoheneichen.de/wp-content/uploa
 ds/2022/11/sj-bild-5510-hoheneichen-park-bastei-img-8546-claudia-arnold1-s
 caled.jpg
CATEGORIES:Weitere Veranstaltungen
END:VEVENT
END:VCALENDAR