BEGIN:VCALENDAR
VERSION:2.0
PRODID:-//wp-events-plugin.com//7.2.3.1//EN
BEGIN:VEVENT
UID:420@haus-hoheneichen.de
DTSTART:20260430T160000Z
DTEND:20260530T083000Z
DTSTAMP:20260330T074343Z
URL:https://www.haus-hoheneichen.de/programm/ignatianische-exerzitien-30-t
 age-2613/
SUMMARY:Ignatianische Exerzitien (30 Tage) (2613)
DESCRIPTION:\nEinzelexerzitien nach Ignatius von Loyola\n\n\n\nInhalt\n\n\n
 \nDie Exerzitien beinhalten folgende Elemente:\n\n\n\n\ndurchgehendes Schw
 eigen\n\n\n\ntäglich 3 bis 4 Stunden Bibelbetrachtung\n\n\n\nregelmäßig
 es Begleitgespräch\n\n\n\nEucharistiefeier\n\n\n\ngemeinsame Gebetszeit i
 n der Stille\n\n\n\nMöglichkeit der Mitarbeit im Haus oder im Garten\n\n\
 n\n\n\n\n\n\nDamit Sie eine genauere Vorstellung davon bekommen können\, 
 um was es bei ignatianischen Exerzitien geht\, finden Sie unter den folgen
 den Links weitere Informationen:\n\n\n\n\nDer Rahmen eines Exerzitienkurse
 s\n\n\n\nDas Schweigen\n\n\n\nDas Begleitgespräch\n\n\n\nBiblische Betrac
 htungsexerzitien\n\n\n\nDas Exerzitientagebuch\n\n\n\nDie Schriftmeditatio
 n\n\n\n\n\n\n\n\n\nInformation\n\n\n\nKursnummer: 2613Kosten: 1950 €Kurs
 gebühr: 750 €\n\n\n\nSollten Sie an den Exerzitien teilnehmen wollen\, 
 sich den Beitrag aber nicht leisten können\, sprechen Sie uns an – wir 
 finden eine Lösung.\n\n\n\nKursleitung\n\n\n\nIhr individueller Begleiter
 \, Ihre individuelle Begleiterin wird von der Kursleitung bestimmt. Wir st
 reben eine ausgewogene und gleichmäßige Verteilung an.\n\n\n\n\n
ATTACH;FMTTYPE=image/jpeg:https://www.haus-hoheneichen.de/wp-content/uploa
 ds/2022/11/kapelle-hochkant-e1669368947895.jpg
END:VEVENT
END:VCALENDAR