BEGIN:VCALENDAR
VERSION:2.0
PRODID:-//wp-events-plugin.com//7.2.3.1//EN
BEGIN:VEVENT
UID:414@haus-hoheneichen.de
DTSTART:20260315T160000Z
DTEND:20260319T083000Z
DTSTAMP:20260210T110806Z
URL:https://www.haus-hoheneichen.de/programm/oekumenische-exerzitien/
SUMMARY:Ökumenische Exerzitien
DESCRIPTION:\n\n\n\n\nInhalt\n\n\n\nDie Exerzitien beinhalten folgende Elem
 ente:\n\n\n\n\ndurchgehendes Schweigen\n\n\n\ntäglich 3 bis 4 Stunden Bib
 elbetrachtung\n\n\n\nregelmäßiges Begleitgespräch\n\n\n\nEucharistiefei
 er oder Abendmahlsfeier im Wechsel\n\n\n\ngemeinsame Gebetszeit in der Sti
 lle\n\n\n\nMöglichkeit der Mitarbeit im Haus oder im Garten\n\n\n\n\n\n\n
 \n\nInformation\n\n\n\nKosten: 280 €Kursgebühr: 150 €\n\n\n\nVeransta
 ltungsort und Anmeldung:Haus der Stille\, Am oberen Bach 6\, 01723 Grumbac
 hwww.haus-der-stille.net\n\n\n\n\n\n\n\nKursleitung\n\n\n\nIhr individuell
 er Begleiter\, Ihre individuelle Begleiterin wird von der Kursleitung best
 immt. Wir streben eine ausgewogene und gleichmäßige Verteilung an.\n\n\n
 \n\n\n\n\n\n
ATTACH;FMTTYPE=image/jpeg:https://www.haus-hoheneichen.de/wp-content/uploa
 ds/2022/11/img-2844-scaled-e1669369280760.jpg
END:VEVENT
END:VCALENDAR