BEGIN:VCALENDAR
VERSION:2.0
PRODID:-//wp-events-plugin.com//7.2.3.1//EN
BEGIN:VEVENT
UID:419@haus-hoheneichen.de
DTSTART:20260322T160000Z
DTEND:20260325T083000Z
DTSTAMP:20260206T135716Z
URL:https://www.haus-hoheneichen.de/programm/staerkung-der-seelischen-wide
 rstandskraft-resilienz-2609/
SUMMARY:Stärkung der seelischen Widerstandskraft - Resilienz (2609)
DESCRIPTION:\nDas Leben bejahen\, Krisen bewältigen und überwinden.\n\n\n
 \nInhalt\n\n\n\nIn einer Welt mit zunehmenden Herausforderungen\, in Zeite
 n globaler und persönlicher Veränderungen ist es wichtiger denn je\, die
  eigene seelische Widerstandskraft zu fördern und zu stärken.Worin liegt
  das Rätsel seelischer Gesundheit (Resilienz)?\n\n\n\n\n\n\n\nIn diesem S
 eminar sind Sie herzlich willkommen\, sich den verschiedenen Aspekten seel
 ischer Widerstandskraft zuzuwenden.Es werden praxisnahe Methoden und Übun
 gen vermittelt\, die dazu dienen\, sich der eigenen Ressourcen und persön
 lichen inneren Stärke bewusst zu sein.\n\n\n\n\n\n\n\nInhalt des Seminars
  z.B.:\n\n\n\n\nHintergrundinformationen zum Thema Resilienz\n\n\n\nWahrne
 hmungs-\, Atem- und Körperübungen zur Gefühlsregulation\n\n\n\nImaginat
 ionsübungen\n\n\n\npositive Beeinflussung des Denkens\, geistige Rituale\
 n\n\n\nErfahrungsaustausch und Reflexion in der Gruppe\n\n\n\n\nDie gemein
 same Gruppenarbeit am Montag und Dienstag wird vormittags für 1\,5 Stunde
 n sowie nachmittags und abends jeweils für 2 Stunden stattfinden.In den P
 ausen bietet der wunderschöne Ort HohenEichen ausreichend Möglichkeiten 
 zur inneren Einkehr\, Reflexion und Ruhe.Zur möglichst stressfreien Teiln
 ahme laden wir Sie ein\, am Sonntag bis 17 Uhr anzureisen und am Mittwoch 
 ab 9 Uhr nach dem Frühstück abzureisen.\n\n\n\n\n\n\n\nInformation\n\n\n
 \nKursnummer: 2609Kosten: 240 €Kursgebühr: 200 €\n\n\n\n\n\n\n\nKursl
 eitung\n\n\n\n\n\n\n
ATTACH;FMTTYPE=image/jpeg:https://www.haus-hoheneichen.de/wp-content/uploa
 ds/2022/11/sj-bild-5471-hoheneichen-park-4-img-8246-claudia-arnold-1-scale
 d.jpg
END:VEVENT
END:VCALENDAR